Workbook
Name area: Type1!$F$8
Name area: Type1!$F$8
Name area: Type15!$F$8
Name area: Type16!$F$8
Name area: Type17!$F$8
Name area: Type2!$F$8
Name area: Type5!$F$8
Name area: Type6!$F$8
Name area: Type7!$F$8
Name area: Type8!$F$8
Name area: Type4!$F$8
Name AVGRATE: Type1!$M$47
Name AVGRATE: Type1!$M$47
Name AVGRATE: Type15!$M$47
Name AVGRATE: Type16!$M$47
Name AVGRATE: Type17!$M$47
Name AVGRATE: Type2!$M$47
Name AVGRATE: Type5!$M$47
Name AVGRATE: Type6!$M$47
Name AVGRATE: Type7!$M$47
Name AVGRATE: Type8!$M$47
Name AVGRATE: Type4!$M$47
Name DATE: Type1!$F$6
Name DATE: Type15!$F$6
Name DATE: Type16!$F$6
Name DATE: Type17!$F$6
Name DATE: Type2!$F$6
Name DATE: Type5!$F$6
Name DATE: Type6!$F$6
Name DATE: Type7!$F$6
Name DATE: Type8!$F$6
Name DATE: Type4!$F$6
Name dater: Type1!$J$10
Name dater: Type15!$J$10
Name dater: Type16!$J$10
Name dater: Type17!$J$10
Name dater: Type2!$J$10
Name dater: Type5!$J$10
Name dater: Type6!$J$10
Name dater: Type7!$J$10
Name dater: Type8!$J$10
Name dater: Type4!$J$10
Name FINISH: Type1!$J$7
Name FINISH: Type15!$J$7
Name FINISH: Type16!$J$7
Name FINISH: Type17!$J$7
Name FINISH: Type2!$J$7
Name FINISH: Type5!$J$7
Name FINISH: Type6!$J$7
Name FINISH: Type7!$J$7
Name FINISH: Type8!$J$7
Name FINISH: Type4!$J$7
Name MARK: Type1!$B$5
Name MARK: Type15!$B$5
Name MARK: Type16!$B$5
Name MARK: Type17!$B$5
Name MARK: Type2!$B$5
Name MARK: Type5!$B$5
Name MARK: Type6!$B$5
Name MARK: Type7!$B$5

Sheet Summary
A2: CP70 Root Disease Treatment Summary
A4: DISTRICT | B4: DSE | E4: RUN DATE ------ | F4: =NOW() -> 43284.534
A5: MARK | B5: FE6070 | E5: EFFECTIVE DATE ------ | F5: 43280
B7: Type | C7: Treatment Ha | D7: Estimated Cost
B8: 1 | C8: 15.3 | D8: =Type1!G50 -> 22730.112
B9: 2 | C9: 1.3 | D9: =Type2!G50 -> 1361.859
B10: 4 | C10: 11.5 | D10: =Type4!G50 -> 20528.812
B11: 5 | C11: 2.7 | D11: =Type5!G50 -> 5826.7887
B12: 6 | C12: 2.4 | D12: =Type6!G50 -> 1932.5416
B13: 7 | C13: 0.3 | D13: =Type7!G50 -> 274.12881
B14: 8 | C14: 7.1 | D14: =Type8!G50 -> 7466.3056
B15: 15 | C15: 8.3 | D15: =Type15!G50 -> 11758.139
B16: 16 | C16: 0.8 | D16: =Type16!G50 -> 697.75387
B17: 17 | C17: 1.7 | D17: =Type17!G50 -> 3258.2824
B18: Total: | C18: =SUM(C8:C17) -> 51.4 | D18: =SUM(D8:D17) -> 75834.723

Sheet Type1
D1: ROOT DISEASE CONTROL
D3: Valid July 1, 2018
D4: End Date subject to IAM amendments and machine rate changes.
A5: DISTRICT | B5: DSE | E5: RUN DATE ------ | F5: =NOW() -> 43284.534
A6: MARK | B6: FE6070 | E6: EFFECTIVE DATE ------ | F6: 43279
A7: BLOCK | B7: 70 | E7: TIMBER TYPE ------- | F7: 1
A8: ROOT DISEASE HECTARES TO BE TREATED -------------- | F8: 15.3 | G8: Hectares
A10: Comments:
A11: Notes:
A12: * Lodgepole pine stems 15 cm dbh class all others 20 cm dbh class
A13: ** Use Timber Type Stems/Ha information from Total Stem (Unreduced) Compilation.
A14: ***Live Deciduous may be combined with Live Conifers in Live Conifer column.
A15: ****For appraisal cost estimates, you may use the Root Disease form in effect at the
B16: time of initial submission****
B18: TIMBER TYPE STEMS PER HECTARE ** | F18: TOTAL | G18: TOTAL
A19: DIAMETER | B19: LIVE | C19: LIVE*** | D19: DEAD | E19: DEAD + LIVE | F19: STEMS | G19: STEMS X
A20: CLASS | B20: CONIFER* | C20: DECIDUOUS | D20: POTENTIAL* | E20: USELESS* | F20: (x2 @ 35cm.) | G20: DIAMETER
A21: 15 | F21: =B21+C21+D21+E21 -> 0 | G21: =(F21*A21) -> 0
A22: 20 | B22: 67.1 | F22: =B22+C22+D22+E22 -> 67.1 | G22: =(F22*A22) -> 1342
A23: 25 | B23: 51 | D23: 16.6 | E23: 19.1 | F23: =B23+C23+D23+E23 -> 86.7 | G23: =(F23*A23) -> 2167.5
A24: 30 | B24: 91.8 | F24: =B24+C24+D24+E24 -> 91.8 | G24: =(F24*A24) -> 2754
A25: 35 | B25: 76.4 | D25: 7.4 | F25: =(B25+C25+D25+E25)*2 -> 167.6 | G25: =(F25*A25) -> 5866
A26: 40 | B26: 52.5 | D26: 21.1 | F26: =(B26+C26+D26+E26)*2 -> 147.2 | G26: =(F26*A26) -> 5888
A27: 45 | B27: 31 | F27: =(B27+C27+D27+E27)*2 -> 62 | G27: =(F27*A27) -> 2790
A28: 50 | B28: 19.5 | F28: =(B28+C28+D28+E28)*2 -> 39 | G28: =(F28*A28) -> 1950
A29: 55 | B29: 12.3 | D29: 3.3 | F29: =(B29+C29+D29+E29)*2 -> 31.2 | G29: =(F29*A29) -> 1716
A30: 60 | B30: 6.8 | E30: 3.8 | F30: =(B30+C30+D30+E30)*2 -> 21.2 | G30: =(F30*A30) -> 1272
A31: 65 | B31: 5.8 | F31: =(B31+C31+D31+E31)*2 -> 11.6 | G31: =(F31*A31) -> 754
A32: 70 | F32: =(B32+C32+D32+E32)*2 -> 0 | G32: =(F32*A32) -> 0
A33: 75 | F33: =(B33+C33+D33+E33)*2 -> 0 | G33: =(F33*A33) -> 0
A34: 80 | F34: =(B34+C34+D34+E34)*2 -> 0 | G34: =(F34*A34) -> 0
A35: 85 | F35: =(B35+C35+D35+E35)*2 -> 0 | G35: =(F35*A35) -> 0
A36: 90 | F36: =(B36+C36+D36+E36)*2 -> 0 | G36: =(F36*A36) -> 0
A37: 95 | F37: =(B37+C37+D37+E37)*2 -> 0 | G37: =(F37*A37) -> 0
A38: 100 | F38: =(B38+C38+D38+E38)*2 -> 0 | G38: =(F38*A38) -> 0
A39: 105 | F39: =(B39+C39+D39+E39)*2 -> 0 | G39: =(F39*A39) -> 0
A40: 110 | F40: =(B40+C40+D40+E40)*2 -> 0 | G40: =(F40*A40) -> 0
A41: 115 | F41: =(B41+C41+D41+E41)*2 -> 0 | G41: =(F41*A41) -> 0
A42: 120 | F42: =(B42+C42+D42+E42)*2 -> 0 | G42: =(F42*A42) -> 0
A43: 125 | F43: =(B43+C43+D43+E43)*2 -> 0 | G43: =(F43*A43) -> 0
...

Sheet Type2
D1: ROOT DISEASE CONTROL
D3: Valid July 1, 2018
D4: End Date subject to IAM amendments and machine rate changes.
A5: DISTRICT | B5: DSE | E5: RUN DATE ------ | F5: =NOW() -> 43284.534
A6: MARK | B6: FE6070 | E6: EFFECTIVE DATE ------ | F6: 43279
A7: BLOCK | B7: 70 | E7: TIMBER TYPE ------- | F7: 2
A8: ROOT DISEASE HECTARES TO BE TREATED -------------- | F8: 1.3 | G8: Hectares
A10: Comments:
A11: Notes:
A12: * Lodgepole pine stems 15 cm dbh class all others 20 cm dbh class
A13: ** Use Timber Type Stems/Ha information from Total Stem (Unreduced) Compilation.
A14: ***Live Deciduous may be combined with Live Conifers in Live Conifer column.
A15: ****For appraisal cost estimates, you may use the Root Disease form in effect at the
B16: time of initial submission****
B18: TIMBER TYPE STEMS PER HECTARE ** | F18: TOTAL | G18: TOTAL
A19: DIAMETER | B19: LIVE | C19: LIVE*** | D19: DEAD | E19: DEAD + LIVE | F19: STEMS | G19: STEMS X
A20: CLASS | B20: CONIFER* | C20: DECIDUOUS | D20: POTENTIAL* | E20: USELESS* | F20: (x2 @ 35cm.) | G20: DIAMETER
A21: 15 | F21: =B21+C21+D21+E21 -> 0 | G21: =(F21*A21) -> 0
A22: 20 | B22: 129.2 | F22: =B22+C22+D22+E22 -> 129.2 | G22: =(F22*A22) -> 2584
A23: 25 | B23: 112.4 | F23: =B23+C23+D23+E23 -> 112.4 | G23: =(F23*A23) -> 2810
A24: 30 | F24: =B24+C24+D24+E24 -> 0 | G24: =(F24*A24) -> 0
A25: 35 | B25: 54.4 | F25: =(B25+C25+D25+E25)*2 -> 108.8 | G25: =(F25*A25) -> 3808
A26: 40 | B26: 45 | F26: =(B26+C26+D26+E26)*2 -> 90 | G26: =(F26*A26) -> 3600
A27: 45 | F27: =(B27+C27+D27+E27)*2 -> 0 | G27: =(F27*A27) -> 0
A28: 50 | F28: =(B28+C28+D28+E28)*2 -> 0 | G28: =(F28*A28) -> 0
A29: 55 | B29: 22.9 | F29: =(B29+C29+D29+E29)*2 -> 45.8 | G29: =(F29*A29) -> 2519
A30: 60 | B30: 16.8 | F30: =(B30+C30+D30+E30)*2 -> 33.6 | G30: =(F30*A30) -> 2016
A31: 65 | F31: =(B31+C31+D31+E31)*2 -> 0 | G31: =(F31*A31) -> 0
A32: 70 | F32: =(B32+C32+D32+E32)*2 -> 0 | G32: =(F32*A32) -> 0
A33: 75 | F33: =(B33+C33+D33+E33)*2 -> 0 | G33: =(F33*A33) -> 0
A34: 80 | F34: =(B34+C34+D34+E34)*2 -> 0 | G34: =(F34*A34) -> 0
A35: 85 | F35: =(B35+C35+D35+E35)*2 -> 0 | G35: =(F35*A35) -> 0
A36: 90 | F36: =(B36+C36+D36+E36)*2 -> 0 | G36: =(F36*A36) -> 0
A37: 95 | B37: 7.1 | F37: =(B37+C37+D37+E37)*2 -> 14.2 | G37: =(F37*A37) -> 1349
A38: 100 | F38: =(B38+C38+D38+E38)*2 -> 0 | G38: =(F38*A38) -> 0
A39: 105 | F39: =(B39+C39+D39+E39)*2 -> 0 | G39: =(F39*A39) -> 0
A40: 110 | F40: =(B40+C40+D40+E40)*2 -> 0 | G40: =(F40*A40) -> 0
A41: 115 | F41: =(B41+C41+D41+E41)*2 -> 0 | G41: =(F41*A41) -> 0
A42: 120 | F42: =(B42+C42+D42+E42)*2 -> 0 | G42: =(F42*A42) -> 0
A43: 125 | F43: =(B43+C43+D43+E43)*2 -> 0 | G43: =(F43*A43) -> 0
...

Sheet Type4
D1: ROOT DISEASE CONTROL
D3: Valid July 1, 2018
D4: End Date subject to IAM amendments and machine rate changes.
A5: DISTRICT | B5: DSE | E5: RUN DATE ------ | F5: =NOW() -> 43284.534
A6: MARK | B6: FE6070 | E6: EFFECTIVE DATE ------ | F6: 43279
A7: BLOCK | B7: 70 | E7: TIMBER TYPE ------- | F7: 4
A8: ROOT DISEASE HECTARES TO BE TREATED -------------- | F8: 11.5 | G8: Hectares
A10: Comments:
A11: Notes:
A12: * Lodgepole pine stems 15 cm dbh class all others 20 cm dbh class
A13: ** Use Timber Type Stems/Ha information from Total Stem (Unreduced) Compilation.
A14: ***Live Deciduous may be combined with Live Conifers in Live Conifer column.
A15: ****For appraisal cost estimates, you may use the Root Disease form in effect at the
B16: time of initial submission****
B18: TIMBER TYPE STEMS PER HECTARE ** | F18: TOTAL | G18: TOTAL
A19: DIAMETER | B19: LIVE | C19: LIVE*** | D19: DEAD | E19: DEAD + LIVE | F19: STEMS | G19: STEMS X
A20: CLASS | B20: CONIFER* | C20: DECIDUOUS | D20: POTENTIAL* | E20: USELESS* | F20: (x2 @ 35cm.) | G20: DIAMETER
A21: 15 | F21: =B21+C21+D21+E21 -> 0 | G21: =(F21*A21) -> 0
A22: 20 | B22: 183.8 | F22: =B22+C22+D22+E22 -> 183.8 | G22: =(F22*A22) -> 3676
A23: 25 | B23: 43.1 | F23: =B23+C23+D23+E23 -> 43.1 | G23: =(F23*A23) -> 1077.5
A24: 30 | B24: 94.5 | F24: =B24+C24+D24+E24 -> 94.5 | G24: =(F24*A24) -> 2835
A25: 35 | B25: 55.1 | F25: =(B25+C25+D25+E25)*2 -> 110.2 | G25: =(F25*A25) -> 3857
A26: 40 | B26: 109.9 | E26: 18 | F26: =(B26+C26+D26+E26)*2 -> 255.8 | G26: =(F26*A26) -> 10232
A27: 45 | B27: 12.6 | E27: 15.3 | F27: =(B27+C27+D27+E27)*2 -> 55.8 | G27: =(F27*A27) -> 2511
A28: 50 | B28: 14.3 | F28: =(B28+C28+D28+E28)*2 -> 28.6 | G28: =(F28*A28) -> 1430
A29: 55 | B29: 26 | E29: 21 | F29: =(B29+C29+D29+E29)*2 -> 94 | G29: =(F29*A29) -> 5170
A30: 60 | F30: =(B30+C30+D30+E30)*2 -> 0 | G30: =(F30*A30) -> 0
A31: 65 | E31: 8.1 | F31: =(B31+C31+D31+E31)*2 -> 16.2 | G31: =(F31*A31) -> 1053
A32: 70 | F32: =(B32+C32+D32+E32)*2 -> 0 | G32: =(F32*A32) -> 0
A33: 75 | F33: =(B33+C33+D33+E33)*2 -> 0 | G33: =(F33*A33) -> 0
A34: 80 | F34: =(B34+C34+D34+E34)*2 -> 0 | G34: =(F34*A34) -> 0
A35: 85 | F35: =(B35+C35+D35+E35)*2 -> 0 | G35: =(F35*A35) -> 0
A36: 90 | F36: =(B36+C36+D36+E36)*2 -> 0 | G36: =(F36*A36) -> 0
A37: 95 | F37: =(B37+C37+D37+E37)*2 -> 0 | G37: =(F37*A37) -> 0
A38: 100 | F38: =(B38+C38+D38+E38)*2 -> 0 | G38: =(F38*A38) -> 0
A39: 105 | F39: =(B39+C39+D39+E39)*2 -> 0 | G39: =(F39*A39) -> 0
A40: 110 | F40: =(B40+C40+D40+E40)*2 -> 0 | G40: =(F40*A40) -> 0
A41: 115 | F41: =(B41+C41+D41+E41)*2 -> 0 | G41: =(F41*A41) -> 0
A42: 120 | F42: =(B42+C42+D42+E42)*2 -> 0 | G42: =(F42*A42) -> 0
A43: 125 | F43: =(B43+C43+D43+E43)*2 -> 0 | G43: =(F43*A43) -> 0
...

Sheet Type5
D1: ROOT DISEASE CONTROL
D3: Valid July 1, 2018
D4: End Date subject to IAM amendments and machine rate changes.
A5: DISTRICT | B5: DSE | E5: RUN DATE ------ | F5: =NOW() -> 43284.534
A6: MARK | B6: FE6070 | E6: EFFECTIVE DATE ------ | F6: 43279
A7: BLOCK | B7: 70 | E7: TIMBER TYPE ------- | F7: 5
A8: ROOT DISEASE HECTARES TO BE TREATED -------------- | F8: 2.7 | G8: Hectares
A10: Comments:
A11: Notes:
A12: * Lodgepole pine stems 15 cm dbh class all others 20 cm dbh class
A13: ** Use Timber Type Stems/Ha information from Total Stem (Unreduced) Compilation.
A14: ***Live Deciduous may be combined with Live Conifers in Live Conifer column.
A15: ****For appraisal cost estimates, you may use the Root Disease form in effect at the
B16: time of initial submission****
B18: TIMBER TYPE STEMS PER HECTARE ** | F18: TOTAL | G18: TOTAL
A19: DIAMETER | B19: LIVE | C19: LIVE*** | D19: DEAD | E19: DEAD + LIVE | F19: STEMS | G19: STEMS X
A20: CLASS | B20: CONIFER* | C20: DECIDUOUS | D20: POTENTIAL* | E20: USELESS* | F20: (x2 @ 35cm.) | G20: DIAMETER
A21: 15 | F21: =B21+C21+D21+E21 -> 0 | G21: =(F21*A21) -> 0
A22: 20 | B22: 289.4 | D22: 103.9 | F22: =B22+C22+D22+E22 -> 393.3 | G22: =(F22*A22) -> 7866
A23: 25 | F23: =B23+C23+D23+E23 -> 0 | G23: =(F23*A23) -> 0
A24: 30 | B24: 52.8 | E24: 83.6 | F24: =B24+C24+D24+E24 -> 136.4 | G24: =(F24*A24) -> 4092
A25: 35 | E25: 59.5 | F25: =(B25+C25+D25+E25)*2 -> 119 | G25: =(F25*A25) -> 4165
A26: 40 | F26: =(B26+C26+D26+E26)*2 -> 0 | G26: =(F26*A26) -> 0
A27: 45 | B27: 106.7 | F27: =(B27+C27+D27+E27)*2 -> 213.4 | G27: =(F27*A27) -> 9603
A28: 50 | B28: 43.3 | F28: =(B28+C28+D28+E28)*2 -> 86.6 | G28: =(F28*A28) -> 4330
A29: 55 | B29: 49.4 | F29: =(B29+C29+D29+E29)*2 -> 98.8 | G29: =(F29*A29) -> 5434
A30: 60 | F30: =(B30+C30+D30+E30)*2 -> 0 | G30: =(F30*A30) -> 0
A31: 65 | F31: =(B31+C31+D31+E31)*2 -> 0 | G31: =(F31*A31) -> 0
A32: 70 | B32: 11.4 | F32: =(B32+C32+D32+E32)*2 -> 22.8 | G32: =(F32*A32) -> 1596
A33: 75 | F33: =(B33+C33+D33+E33)*2 -> 0 | G33: =(F33*A33) -> 0
A34: 80 | B34: 8.8 | F34: =(B34+C34+D34+E34)*2 -> 17.6 | G34: =(F34*A34) -> 1408
A35: 85 | F35: =(B35+C35+D35+E35)*2 -> 0 | G35: =(F35*A35) -> 0
A36: 90 | F36: =(B36+C36+D36+E36)*2 -> 0 | G36: =(F36*A36) -> 0
A37: 95 | F37: =(B37+C37+D37+E37)*2 -> 0 | G37: =(F37*A37) -> 0
A38: 100 | F38: =(B38+C38+D38+E38)*2 -> 0 | G38: =(F38*A38) -> 0
A39: 105 | F39: =(B39+C39+D39+E39)*2 -> 0 | G39: =(F39*A39) -> 0
A40: 110 | F40: =(B40+C40+D40+E40)*2 -> 0 | G40: =(F40*A40) -> 0
A41: 115 | F41: =(B41+C41+D41+E41)*2 -> 0 | G41: =(F41*A41) -> 0
A42: 120 | F42: =(B42+C42+D42+E42)*2 -> 0 | G42: =(F42*A42) -> 0
A43: 125 | F43: =(B43+C43+D43+E43)*2 -> 0 | G43: =(F43*A43) -> 0
...

Sheet Type6
D1: ROOT DISEASE CONTROL
D3: Valid July 1, 2018
D4: End Date subject to IAM amendments and machine rate changes.
A5: DISTRICT | B5: DSE | E5: RUN DATE ------ | F5: =NOW() -> 43284.534
A6: MARK | B6: FE6070 | E6: EFFECTIVE DATE ------ | F6: 43279
A7: BLOCK | B7: 70 | E7: TIMBER TYPE ------- | F7: 6
A8: ROOT DISEASE HECTARES TO BE TREATED -------------- | F8: 2.4 | G8: Hectares
A10: Comments:
A11: Notes:
A12: * Lodgepole pine stems 15 cm dbh class all others 20 cm dbh class
A13: ** Use Timber Type Stems/Ha information from Total Stem (Unreduced) Compilation.
A14: ***Live Deciduous may be combined with Live Conifers in Live Conifer column.
A15: ****For appraisal cost estimates, you may use the Root Disease form in effect at the
B16: time of initial submission****
B18: TIMBER TYPE STEMS PER HECTARE ** | F18: TOTAL | G18: TOTAL
A19: DIAMETER | B19: LIVE | C19: LIVE*** | D19: DEAD | E19: DEAD + LIVE | F19: STEMS | G19: STEMS X
A20: CLASS | B20: CONIFER* | C20: DECIDUOUS | D20: POTENTIAL* | E20: USELESS* | F20: (x2 @ 35cm.) | G20: DIAMETER
A21: 15 | F21: =B21+C21+D21+E21 -> 0 | G21: =(F21*A21) -> 0
A22: 20 | F22: =B22+C22+D22+E22 -> 0 | G22: =(F22*A22) -> 0
A23: 25 | F23: =B23+C23+D23+E23 -> 0 | G23: =(F23*A23) -> 0
A24: 30 | F24: =B24+C24+D24+E24 -> 0 | G24: =(F24*A24) -> 0
A25: 35 | B25: 114.5 | F25: =(B25+C25+D25+E25)*2 -> 229 | G25: =(F25*A25) -> 8015
A26: 40 | F26: =(B26+C26+D26+E26)*2 -> 0 | G26: =(F26*A26) -> 0
A27: 45 | B27: 51.2 | F27: =(B27+C27+D27+E27)*2 -> 102.4 | G27: =(F27*A27) -> 4608
A28: 50 | F28: =(B28+C28+D28+E28)*2 -> 0 | G28: =(F28*A28) -> 0
A29: 55 | F29: =(B29+C29+D29+E29)*2 -> 0 | G29: =(F29*A29) -> 0
A30: 60 | B30: 14.5 | F30: =(B30+C30+D30+E30)*2 -> 29 | G30: =(F30*A30) -> 1740
A31: 65 | F31: =(B31+C31+D31+E31)*2 -> 0 | G31: =(F31*A31) -> 0
A32: 70 | F32: =(B32+C32+D32+E32)*2 -> 0 | G32: =(F32*A32) -> 0
A33: 75 | F33: =(B33+C33+D33+E33)*2 -> 0 | G33: =(F33*A33) -> 0
A34: 80 | F34: =(B34+C34+D34+E34)*2 -> 0 | G34: =(F34*A34) -> 0
A35: 85 | F35: =(B35+C35+D35+E35)*2 -> 0 | G35: =(F35*A35) -> 0
A36: 90 | F36: =(B36+C36+D36+E36)*2 -> 0 | G36: =(F36*A36) -> 0
A37: 95 | F37: =(B37+C37+D37+E37)*2 -> 0 | G37: =(F37*A37) -> 0
A38: 100 | F38: =(B38+C38+D38+E38)*2 -> 0 | G38: =(F38*A38) -> 0
A39: 105 | F39: =(B39+C39+D39+E39)*2 -> 0 | G39: =(F39*A39) -> 0
A40: 110 | F40: =(B40+C40+D40+E40)*2 -> 0 | G40: =(F40*A40) -> 0
A41: 115 | F41: =(B41+C41+D41+E41)*2 -> 0 | G41: =(F41*A41) -> 0
A42: 120 | F42: =(B42+C42+D42+E42)*2 -> 0 | G42: =(F42*A42) -> 0
A43: 125 | F43: =(B43+C43+D43+E43)*2 -> 0 | G43: =(F43*A43) -> 0
...

Sheet Type7
D1: ROOT DISEASE CONTROL
D3: Valid July 1, 2018
D4: End Date subject to IAM amendments and machine rate changes.
A5: DISTRICT | B5: DSE | E5: RUN DATE ------ | F5: =NOW() -> 43284.534
A6: MARK | B6: FE6070 | E6: EFFECTIVE DATE ------ | F6: 43279
A7: BLOCK | B7: 70 | E7: TIMBER TYPE ------- | F7: 7
A8: ROOT DISEASE HECTARES TO BE TREATED -------------- | F8: 0.3 | G8: Hectares
A10: Comments:
A11: Notes:
A12: * Lodgepole pine stems 15 cm dbh class all others 20 cm dbh class
A13: ** Use Timber Type Stems/Ha information from Total Stem (Unreduced) Compilation.
A14: ***Live Deciduous may be combined with Live Conifers in Live Conifer column.
A15: ****For appraisal cost estimates, you may use the Root Disease form in effect at the
B16: time of initial submission****
B18: TIMBER TYPE STEMS PER HECTARE ** | F18: TOTAL | G18: TOTAL
A19: DIAMETER | B19: LIVE | C19: LIVE*** | D19: DEAD | E19: DEAD + LIVE | F19: STEMS | G19: STEMS X
A20: CLASS | B20: CONIFER* | C20: DECIDUOUS | D20: POTENTIAL* | E20: USELESS* | F20: (x2 @ 35cm.) | G20: DIAMETER
A21: 15 | F21: =B21+C21+D21+E21 -> 0 | G21: =(F21*A21) -> 0
A22: 20 | F22: =B22+C22+D22+E22 -> 0 | G22: =(F22*A22) -> 0
A23: 25 | F23: =B23+C23+D23+E23 -> 0 | G23: =(F23*A23) -> 0
A24: 30 | F24: =B24+C24+D24+E24 -> 0 | G24: =(F24*A24) -> 0
A25: 35 | F25: =(B25+C25+D25+E25)*2 -> 0 | G25: =(F25*A25) -> 0
A26: 40 | F26: =(B26+C26+D26+E26)*2 -> 0 | G26: =(F26*A26) -> 0
A27: 45 | B27: 181.1 | F27: =(B27+C27+D27+E27)*2 -> 362.2 | G27: =(F27*A27) -> 16299
A28: 50 | F28: =(B28+C28+D28+E28)*2 -> 0 | G28: =(F28*A28) -> 0
A29: 55 | F29: =(B29+C29+D29+E29)*2 -> 0 | G29: =(F29*A29) -> 0
A30: 60 | F30: =(B30+C30+D30+E30)*2 -> 0 | G30: =(F30*A30) -> 0
A31: 65 | F31: =(B31+C31+D31+E31)*2 -> 0 | G31: =(F31*A31) -> 0
A32: 70 | F32: =(B32+C32+D32+E32)*2 -> 0 | G32: =(F32*A32) -> 0
A33: 75 | F33: =(B33+C33+D33+E33)*2 -> 0 | G33: =(F33*A33) -> 0
A34: 80 | F34: =(B34+C34+D34+E34)*2 -> 0 | G34: =(F34*A34) -> 0
A35: 85 | F35: =(B35+C35+D35+E35)*2 -> 0 | G35: =(F35*A35) -> 0
A36: 90 | F36: =(B36+C36+D36+E36)*2 -> 0 | G36: =(F36*A36) -> 0
A37: 95 | F37: =(B37+C37+D37+E37)*2 -> 0 | G37: =(F37*A37) -> 0
A38: 100 | F38: =(B38+C38+D38+E38)*2 -> 0 | G38: =(F38*A38) -> 0
A39: 105 | F39: =(B39+C39+D39+E39)*2 -> 0 | G39: =(F39*A39) -> 0
... A43: 125 | F43: =(B43+C43+D43+E43)*2 -> 0 | G43: =(F43*A43) -> 0
A44: TOTAL | B44: =SUM(B21:B43) -> 181.1 | C44: =SUM(C21:C43) -> 0 | D44: =SUM(D21:D43) -> 0 | E44: =SUM(E21:E43) -> 0
J45: Machine Rates are from current IAM Appendix I (based on 2016-2017 Blue Book)
F46: TOTAL STEMS X DIA. ----------------------------------------- | G46: =SUM(G21:G43) -> 16299 | J46: Combined Cat 324E & Cat 329E = | M46: =(182.71+220.94) -> 403.65 | N46: /2
...

Sheet Type8
D1: ROOT DISEASE CONTROL
D3: Valid July 1, 2018
D4: End Date subject to IAM amendments and machine rate changes.
A5: DISTRICT | B5: DSE | E5: RUN DATE ------ | F5: =NOW() -> 43284.534
A6: MARK | B6: FE6070 | E6: EFFECTIVE DATE ------ | F6: 43279
A7: BLOCK | B7: 70 | E7: TIMBER TYPE ------- | F7: 8
A8: ROOT DISEASE HECTARES TO BE TREATED -------------- | F8: 7.1 | G8: Hectares
A10: Comments:
A11: Notes:
A12: * Lodgepole pine stems 15 cm dbh class all others 20 cm dbh class
A13: ** Use Timber Type Stems/Ha information from Total Stem (Unreduced) Compilation.
A14: ***Live Deciduous may be combined with Live Conifers in Live Conifer column.
A15: ****For appraisal cost estimates, you may use the Root Disease form in effect at the
B16: time of initial submission****
B18: TIMBER TYPE STEMS PER HECTARE ** | F18: TOTAL | G18: TOTAL
A19: DIAMETER | B19: LIVE | C19: LIVE*** | D19: DEAD | E19: DEAD + LIVE | F19: STEMS | G19: STEMS X
A20: CLASS | B20: CONIFER* | C20: DECIDUOUS | D20: POTENTIAL* | E20: USELESS* | F20: (x2 @ 35cm.) | G20: DIAMETER
A21: 15 | F21: =B21+C21+D21+E21 -> 0 | G21: =(F21*A21) -> 0
A22: 20 | B22: 127.3 | F22: =B22+C22+D22+E22 -> 127.3 | G22: =(F22*A22) -> 2546
A23: 25 | B23: 135.3 | F23: =B23+C23+D23+E23 -> 135.3 | G23: =(F23*A23) -> 3382.5
A24: 30 | F24: =B24+C24+D24+E24 -> 0 | G24: =(F24*A24) -> 0
A25: 35 | B25: 57 | F25: =(B25+C25+D25+E25)*2 -> 114 | G25: =(F25*A25) -> 3990
A26: 40 | B26: 47.7 | F26: =(B26+C26+D26+E26)*2 -> 95.4 | G26: =(F26*A26) -> 3816
A27: 45 | B27: 8.2 | F27: =(B27+C27+D27+E27)*2 -> 16.4 | G27: =(F27*A27) -> 738
A28: 50 | B28: 36.8 | F28: =(B28+C28+D28+E28)*2 -> 73.6 | G28: =(F28*A28) -> 3680
A29: 55 | B29: 5.5 | F29: =(B29+C29+D29+E29)*2 -> 11 | G29: =(F29*A29) -> 605
A30: 60 | F30: =(B30+C30+D30+E30)*2 -> 0 | G30: =(F30*A30) -> 0
A31: 65 | F31: =(B31+C31+D31+E31)*2 -> 0 | G31: =(F31*A31) -> 0
A32: 70 | F32: =(B32+C32+D32+E32)*2 -> 0 | G32: =(F32*A32) -> 0
A33: 75 | F33: =(B33+C33+D33+E33)*2 -> 0 | G33: =(F33*A33) -> 0
A34: 80 | F34: =(B34+C34+D34+E34)*2 -> 0 | G34: =(F34*A34) -> 0
A35: 85 | F35: =(B35+C35+D35+E35)*2 -> 0 | G35: =(F35*A35) -> 0
A36: 90 | F36: =(B36+C36+D36+E36)*2 -> 0 | G36: =(F36*A36) -> 0
A37: 95 | F37: =(B37+C37+D37+E37)*2 -> 0 | G37: =(F37*A37) -> 0
A38: 100 | F38: =(B38+C38+D38+E38)*2 -> 0 | G38: =(F38*A38) -> 0
A39: 105 | F39: =(B39+C39+D39+E39)*2 -> 0 | G39: =(F39*A39) -> 0
A40: 110 | F40: =(B40+C40+D40+E40)*2 -> 0 | G40: =(F40*A40) -> 0
A41: 115 | F41: =(B41+C41+D41+E41)*2 -> 0 | G41: =(F41*A41) -> 0
... A43: 125 | F43: =(B43+C43+D43+E43)*2 -> 0 | G43: =(F43*A43) -> 0
A44: TOTAL | B44: =SUM(B21:B43) -> 417.8 | C44: =SUM(C21:C43) -> 0 | D44: =SUM(D21:D43) -> 0 | E44: =SUM(E21:E43) -> 0
...

Sheet Type15
D1: ROOT DISEASE CONTROL
D3: Valid July 1, 2018
D4: End Date subject to IAM amendments and machine rate changes.
A5: DISTRICT | B5: DSE | E5: RUN DATE ------ | F5: =NOW() -> 43284.534
A6: MARK | B6: FE6070 | E6: EFFECTIVE DATE ------ | F6: 43279
A7: BLOCK | B7: 70 | E7: TIMBER TYPE ------- | F7: 15
A8: ROOT DISEASE HECTARES TO BE TREATED -------------- | F8: 8.3 | G8: Hectares
A10: Comments:
A11: Notes:
A12: * Lodgepole pine stems 15 cm dbh class all others 20 cm dbh class
A13: ** Use Timber Type Stems/Ha information from Total Stem (Unreduced) Compilation.
A14: ***Live Deciduous may be combined with Live Conifers in Live Conifer column.
A15: ****For appraisal cost estimates, you may use the Root Disease form in effect at the
B16: time of initial submission****
B18: TIMBER TYPE STEMS PER HECTARE ** | F18: TOTAL | G18: TOTAL
A19: DIAMETER | B19: LIVE | C19: LIVE*** | D19: DEAD | E19: DEAD + LIVE | F19: STEMS | G19: STEMS X
A20: CLASS | B20: CONIFER* | C20: DECIDUOUS | D20: POTENTIAL* | E20: USELESS* | F20: (x2 @ 35cm.) | G20: DIAMETER
A21: 15 | F21: =B21+C21+D21+E21 -> 0 | G21: =(F21*A21) -> 0
A22: 20 | B22: 32.9 | D22: 31.4 | E22: 51.4 | F22: =B22+C22+D22+E22 -> 115.7 | G22: =(F22*A22) -> 2314
A23: 25 | B23: 88.8 | D23: 46.4 | F23: =B23+C23+D23+E23 -> 135.2 | G23: =(F23*A23) -> 3380
A24: 30 | B24: 69.4 | E24: 17.1 | F24: =B24+C24+D24+E24 -> 86.5 | G24: =(F24*A24) -> 2595
A25: 35 | B25: 63.3 | D25: 11.5 | F25: =(B25+C25+D25+E25)*2 -> 149.6 | G25: =(F25*A25) -> 5236
A26: 40 | B26: 19.4 | D26: 10 | E26: 9.2 | F26: =(B26+C26+D26+E26)*2 -> 77.2 | G26: =(F26*A26) -> 3088
A27: 45 | B27: 17.9 | F27: =(B27+C27+D27+E27)*2 -> 35.8 | G27: =(F27*A27) -> 1611
A28: 50 | B28: 25.6 | F28: =(B28+C28+D28+E28)*2 -> 51.2 | G28: =(F28*A28) -> 2560
A29: 55 | B29: 8.3 | F29: =(B29+C29+D29+E29)*2 -> 16.6 | G29: =(F29*A29) -> 913
A30: 60 | B30: 4.3 | D30: 8 | F30: =(B30+C30+D30+E30)*2 -> 24.6 | G30: =(F30*A30) -> 1476
A31: 65 | B31: 10.7 | F31: =(B31+C31+D31+E31)*2 -> 21.4 | G31: =(F31*A31) -> 1391
A32: 70 | F32: =(B32+C32+D32+E32)*2 -> 0 | G32: =(F32*A32) -> 0
A33: 75 | B33: 4.7 | F33: =(B33+C33+D33+E33)*2 -> 9.4 | G33: =(F33*A33) -> 705
A34: 80 | F34: =(B34+C34+D34+E34)*2 -> 0 | G34: =(F34*A34) -> 0
A35: 85 | F35: =(B35+C35+D35+E35)*2 -> 0 | G35: =(F35*A35) -> 0
A36: 90 | F36: =(B36+C36+D36+E36)*2 -> 0 | G36: =(F36*A36) -> 0
A37: 95 | F37: =(B37+C37+D37+E37)*2 -> 0 | G37: =(F37*A37) -> 0
A38: 100 | F38: =(B38+C38+D38+E38)*2 -> 0 | G38: =(F38*A38) -> 0
A39: 105 | F39: =(B39+C39+D39+E39)*2 -> 0 | G39: =(F39*A39) -> 0
A40: 110 | F40: =(B40+C40+D40+E40)*2 -> 0 | G40: =(F40*A40) -> 0
A41: 115 | F41: =(B41+C41+D41+E41)*2 -> 0 | G41: =(F41*A41) -> 0
A42: 120 | F42: =(B42+C42+D42+E42)*2 -> 0 | G42: =(F42*A42) -> 0
A43: 125 | F43: =(B43+C43+D43+E43)*2 -> 0 | G43: =(F43*A43) -> 0
...

Sheet Type16
D1: ROOT DISEASE CONTROL
D3: Valid July 1, 2018
D4: End Date subject to IAM amendments and machine rate changes.
A5: DISTRICT | B5: DSE | E5: RUN DATE ------ | F5: =NOW() -> 43284.534
A6: MARK | B6: FE6070 | E6: EFFECTIVE DATE ------ | F6: 43279
A7: BLOCK | B7: 70 | E7: TIMBER TYPE ------- | F7: 16
A8: ROOT DISEASE HECTARES TO BE TREATED -------------- | F8: 0.8 | G8: Hectares
A10: Comments:
A11: Notes:
A12: * Lodgepole pine stems 15 cm dbh class all others 20 cm dbh class
A13: ** Use Timber Type Stems/Ha information from Total Stem (Unreduced) Compilation.
A14: ***Live Deciduous may be combined with Live Conifers in Live Conifer column.
A15: ****For appraisal cost estimates, you may use the Root Disease form in effect at the
B16: time of initial submission****
B18: TIMBER TYPE STEMS PER HECTARE ** | F18: TOTAL | G18: TOTAL
A19: DIAMETER | B19: LIVE | C19: LIVE*** | D19: DEAD | E19: DEAD + LIVE | F19: STEMS | G19: STEMS X
A20: CLASS | B20: CONIFER* | C20: DECIDUOUS | D20: POTENTIAL* | E20: USELESS* | F20: (x2 @ 35cm.) | G20: DIAMETER
A21: 15 | F21: =B21+C21+D21+E21 -> 0 | G21: =(F21*A21) -> 0
A22: 20 | B22: 174.5 | F22: =B22+C22+D22+E22 -> 174.5 | G22: =(F22*A22) -> 3490
A23: 25 | B23: 407.1 | F23: =B23+C23+D23+E23 -> 407.1 | G23: =(F23*A23) -> 10177.5
A24: 30 | B24: 63 | F24: =B24+C24+D24+E24 -> 63 | G24: =(F24*A24) -> 1890
A25: 35 | F25: =(B25+C25+D25+E25)*2 -> 0 | G25: =(F25*A25) -> 0
A26: 40 | F26: =(B26+C26+D26+E26)*2 -> 0 | G26: =(F26*A26) -> 0
A27: 45 | F27: =(B27+C27+D27+E27)*2 -> 0 | G27: =(F27*A27) -> 0
A28: 50 | F28: =(B28+C28+D28+E28)*2 -> 0 | G28: =(F28*A28) -> 0
A29: 55 | F29: =(B29+C29+D29+E29)*2 -> 0 | G29: =(F29*A29) -> 0
A30: 60 | F30: =(B30+C30+D30+E30)*2 -> 0 | G30: =(F30*A30) -> 0
A31: 65 | F31: =(B31+C31+D31+E31)*2 -> 0 | G31: =(F31*A31) -> 0
A32: 70 | F32: =(B32+C32+D32+E32)*2 -> 0 | G32: =(F32*A32) -> 0
A33: 75 | F33: =(B33+C33+D33+E33)*2 -> 0 | G33: =(F33*A33) -> 0
A34: 80 | F34: =(B34+C34+D34+E34)*2 -> 0 | G34: =(F34*A34) -> 0
A35: 85 | F35: =(B35+C35+D35+E35)*2 -> 0 | G35: =(F35*A35) -> 0
A36: 90 | F36: =(B36+C36+D36+E36)*2 -> 0 | G36: =(F36*A36) -> 0
... A43: 125 | F43: =(B43+C43+D43+E43)*2 -> 0 | G43: =(F43*A43) -> 0
A44: TOTAL | B44: =SUM(B21:B43) -> 644.6 | C44: =SUM(C21:C43) -> 0 | D44: =SUM(D21:D43) -> 0 | E44: =SUM(E21:E43) -> 0
J45: Machine Rates are from current IAM Appendix I (based on 2016-2017 Blue Book)
F46: TOTAL STEMS X DIA. ----------------------------------------- | G46: =SUM(G21:G43) -> 15557.5 | J46: Combined Cat 324E & Cat 329E = | M46: =(182.71+220.94) -> 403.65 | N46: /2
F47: HOURS PER HECTARE -------------------------------------- | G47: =(G46/3600) -> 4.3215278 | I47: =(G47*AVGRATE) -> 872.19234 | L47: Avg. rate = | M47: =(403.65/2) -> 201.825
A49: ROOT DISEASE COST PER HA.($600/HA Min.) ---------------------- | G49: =IF(I47<=600,600,I47) -> 872.19234
F50: TOTAL COST ESTIMATE = | G50: =(G49*area) -> 697.75387
...

Sheet Type17
D1: ROOT DISEASE CONTROL
D3: Valid July 1, 2018
D4: End Date subject to IAM amendments and machine rate changes.
A5: DISTRICT | B5: DSE | E5: RUN DATE ------ | F5: =NOW() -> 43284.534
A6: MARK | B6: FE6070 | E6: EFFECTIVE DATE ------ | F6: 43279
A7: BLOCK | B7: 70 | E7: TIMBER TYPE ------- | F7: 17
A8: ROOT DISEASE HECTARES TO BE TREATED -------------- | F8: 1.7 | G8: Hectares
A10: Comments:
A11: Notes:
A12: * Lodgepole pine stems 15 cm dbh class all others 20 cm dbh class
A13: ** Use Timber Type Stems/Ha information from Total Stem (Unreduced) Compilation.
A14: ***Live Deciduous may be combined with Live Conifers in Live Conifer column.
A15: ****For appraisal cost estimates, you may use the Root Disease form in effect at the
B16: time of initial submission****
B18: TIMBER TYPE STEMS PER HECTARE ** | F18: TOTAL | G18: TOTAL
A19: DIAMETER | B19: LIVE | C19: LIVE*** | D19: DEAD | E19: DEAD + LIVE | F19: STEMS | G19: STEMS X
A20: CLASS | B20: CONIFER* | C20: DECIDUOUS | D20: POTENTIAL* | E20: USELESS* | F20: (x2 @ 35cm.) | G20: DIAMETER
A21: 15 | F21: =B21+C21+D21+E21 -> 0 | G21: =(F21*A21) -> 0
A22: 20 | B22: 84.6 | E22: 186 | F22: =B22+C22+D22+E22 -> 270.6 | G22: =(F22*A22) -> 5412
A23: 25 | B23: 270 | D23: 59.7 | F23: =B23+C23+D23+E23 -> 329.7 | G23: =(F23*A23) -> 8242.5
A24: 30 | D24: 65.8 | F24: =B24+C24+D24+E24 -> 65.8 | G24: =(F24*A24) -> 1974
A25: 35 | B25: 199.1 | F25: =(B25+C25+D25+E25)*2 -> 398.2 | G25: =(F25*A25) -> 13937
A26: 40 | F26: =(B26+C26+D26+E26)*2 -> 0 | G26: =(F26*A26) -> 0
A27: 45 | D27: 7.9 | F27: =(B27+C27+D27+E27)*2 -> 15.8 | G27: =(F27*A27) -> 711
A28: 50 | D28: 13.5 | F28: =(B28+C28+D28+E28)*2 -> 27 | G28: =(F28*A28) -> 1350
A29: 55 | F29: =(B29+C29+D29+E29)*2 -> 0 | G29: =(F29*A29) -> 0
A30: 60 | F30: =(B30+C30+D30+E30)*2 -> 0 | G30: =(F30*A30) -> 0
A31: 65 | B31: 19.7 | F31: =(B31+C31+D31+E31)*2 -> 39.4 | G31: =(F31*A31) -> 2561
A32: 70 | F32: =(B32+C32+D32+E32)*2 -> 0 | G32: =(F32*A32) -> 0
A33: 75 | F33: =(B33+C33+D33+E33)*2 -> 0 | G33: =(F33*A33) -> 0
A34: 80 | F34: =(B34+C34+D34+E34)*2 -> 0 | G34: =(F34*A34) -> 0
A35: 85 | F35: =(B35+C35+D35+E35)*2 -> 0 | G35: =(F35*A35) -> 0
A36: 90 | F36: =(B36+C36+D36+E36)*2 -> 0 | G36: =(F36*A36) -> 0
A37: 95 | F37: =(B37+C37+D37+E37)*2 -> 0 | G37: =(F37*A37) -> 0
A38: 100 | F38: =(B38+C38+D38+E38)*2 -> 0 | G38: =(F38*A38) -> 0
A39: 105 | F39: =(B39+C39+D39+E39)*2 -> 0 | G39: =(F39*A39) -> 0
A40: 110 | F40: =(B40+C40+D40+E40)*2 -> 0 | G40: =(F40*A40) -> 0
A41: 115 | F41: =(B41+C41+D41+E41)*2 -> 0 | G41: =(F41*A41) -> 0
A42: 120 | F42: =(B42+C42+D42+E42)*2 -> 0 | G42: =(F42*A42) -> 0
A43: 125 | F43: =(B43+C43+D43+E43)*2 -> 0 | G43: =(F43*A43) -> 0
...
